BEGIN:VCALENDAR
VERSION:2.0
PRODID:-//hacksw/handcal//NONSGML v1.0//EN
BEGIN:VEVENT
SUMMARY:STAGE REGLAGE MATERIEL
UID:7df92149-3ca0-480c-bcd4-dd3338deb94d
DTSTART:20260418T070000Z
DTEND:20260418T100000Z
LOCATION:GYMNASE  GARNOT 4 rue vialla 32000 auch
CATEGORIES:Formation
STATUS:
DESCRIPTION:<p> </p>
 
 <p><strong>Samedi 18 avril 2026 de 9h a 13h au
 gymnase carnot a eu lieu l'atelier reglage materiel et
 reparation.</strong></p>
 
 <p><b>Cet atelier s'est tres bien passe et
 une dizaine d'archers sont venus.</b></p>
 
 <p><strong>Une matinee
 conviviale et studieuse avec une equipe a l'ecoute des
 conseils.</strong></p>
 
 <p><strong>Surement a refaire!! avec un
 atelier fleches pour ceux qui en ont besoin.
 </strong></p>
 
 <p><strong>N'hesitez pas a nous
 demander.</strong></p>
 
 <p><strong>Le petit buffet auberge espagnole
  sympa a refaire aussi !</strong></p>
URL;VALUE=URI:https://www.arc-auscitain.fr/evenements/2026/04/18/stage-reglage-materiel-2439194
END:VEVENT
END:VCALENDAR
